BEGIN:VCALENDAR
VERSION:2.0
PRODID:-//Sense - ECPv5.9.0//NONSGML v1.0//EN
CALSCALE:GREGORIAN
METHOD:PUBLISH
X-WR-CALNAME:Sense
X-ORIGINAL-URL:https://sense-live.com
X-WR-CALDESC:Events for Sense
BEGIN:VTIMEZONE
TZID:UTC
BEGIN:STANDARD
TZOFFSETFROM:+0000
TZOFFSETTO:+0000
TZNAME:UTC
DTSTART:20240101T000000
END:STANDARD
END:VTIMEZONE
BEGIN:VEVENT
DTSTART;TZID=UTC:20241008T220000
DTEND;TZID=UTC:20241011T030000
DTSTAMP:20260423T211724
CREATED:20230531T093609Z
LAST-MODIFIED:20240920T213050Z
UID:983-1728424800-1728615600@sense-live.com
SUMMARY:Sam Alfred Irish Tour
DESCRIPTION:We are incredibly excited to announce Aussie sensation @samalfredd joins us for a 3-stop Irish tour this October\, with debut shows in Galway & Limerick as well as a return to the capital to close out the tour 💫 \n\n\n\nLimerick: Tue\, Oct 08 @dolans_limerick \n\n\n\nGalway: Wed\, Oct 09 @roisindubhpub \n\n\n\nDublin: Fri\, Oct 11 @centrepointclub
URL:https://sense-live.com/event/samalfred/
LOCATION:The Grand Social\, 35 Liffey St. Lower\,\, Dublin\, D1\, Ireland
CATEGORIES:Club
ATTACH;FMTTYPE=image/webp:https://sense-live.com/wp-content/uploads/2024/09/Sam-Alfred.webp
END:VEVENT
BEGIN:VEVENT
DTSTART;TZID=UTC:20241127T193000
DTEND;TZID=UTC:20241127T230000
DTSTAMP:20260423T211724
CREATED:20230531T093609Z
LAST-MODIFIED:20240920T211949Z
UID:977-1732735800-1732748400@sense-live.com
SUMMARY:salute presents TRUE MAGIC
DESCRIPTION:salute makes their much anticipated Irish return this November 27th at The Grand Social with their ‘TRUE MAGIC’ World Tour. \n\n\n\nsalute’s TRUE MAGIC album is a concept album based on the concept of racing Japanese cars. The album features contributions from Rina Sawayama\, Karma Kid\, Disclosure\, Sam Gellaitry\, なかむらみなみ\, Empress Of\, Léa Sen\, Piri\, and Leilah and charted at number 5 on the UK Dance Albums Chart. Described by salute as “fast and soulful house music\,” with influences including U.K. garage\, techno\, classic house\, and French house. \n\n\n\nTickets go on general sale at 10AM Friday 27th September HERESign up for Pre-sale HERE
URL:https://sense-live.com/event/salute/
LOCATION:The Grand Social\, 35 Liffey St. Lower\,\, Dublin\, D1\, Ireland
CATEGORIES:Live
ATTACH;FMTTYPE=image/png:https://sense-live.com/wp-content/uploads/2024/09/saluteTMWORLD_Dublin.png
END:VEVENT
END:VCALENDAR