BEGIN:VCALENDAR
VERSION:2.0
PRODID:-//Sense - ECPv5.9.0//NONSGML v1.0//EN
CALSCALE:GREGORIAN
METHOD:PUBLISH
X-WR-CALNAME:Sense
X-ORIGINAL-URL:https://sense-live.com
X-WR-CALDESC:Events for Sense
BEGIN:VTIMEZONE
TZID:UTC
BEGIN:STANDARD
TZOFFSETFROM:+0000
TZOFFSETTO:+0000
TZNAME:UTC
DTSTART:20230101T000000
END:STANDARD
END:VTIMEZONE
BEGIN:VEVENT
DTSTART;TZID=UTC:20231006T070000
DTEND;TZID=UTC:20231006T230000
DTSTAMP:20260424T104954
CREATED:20221116T173301Z
LAST-MODIFIED:20230531T095013Z
UID:936-1696575600-1696633200@sense-live.com
SUMMARY:Overmono
DESCRIPTION:British electronic duo Overmono return to Dublin following the release of their highly anticipated debut album\, out via XL Recordings last Friday. The album has received rave reviews such as; \n\n\n\n“UK rave history is distilled to perfection” – The Guardian \n\n\n\nOn their debut album ‘Good Lies’\, the pair retains all the hallmarks of the project so far\, while unashamedly dialing up the ambition; the hooks here are sweeter\, the beats harder.” – NME \n\n\n\n“it wasn’t until they started making music together as Overmono that they became a sensation. When the duo made their Coachella debut last month\, the energy they spent the past seven years building up was readily apparent.” – Stereogum \n\n\n\n“Overmono are the UK’s next massive dance duo” – The Face Magazine \n\n\n\n“Good Lies’ is setting aside Overmono from the rest. \n\n\n\nThe epitome of 2023 sound\, the album breathes a continuously dynamic aura” – CLASH \n\n\n\n“Epic emotional resonance\, raw beats\, a timeless combination” – DJ Mag
URL:https://sense-live.com/event/overmono/
LOCATION:Vicar Street\, 58-59 Thomas St\, Dublin\, Dublin\, 8\, Ireland
CATEGORIES:Live
ATTACH;FMTTYPE=image/png:https://sense-live.com/wp-content/uploads/2022/11/Overmono.png
END:VEVENT
BEGIN:VEVENT
DTSTART;TZID=UTC:20231024T193000
DTEND;TZID=UTC:20231024T230000
DTSTAMP:20260424T104955
CREATED:20230531T093609Z
LAST-MODIFIED:20230531T095031Z
UID:930-1698175800-1698188400@sense-live.com
SUMMARY:Lord Apex
DESCRIPTION:Lord Apex returns to Dublin on Tuesday\, October 24th at Button Factory. Tickets go on sale this Friday\, June 2nd at 10 AM. \n\n\n\nLord Apex is a rare character\, his musical knowledge a rabbit hole and that’s evident in the producers\, musicians\, artists\, and DJs that he works with. He’s a student of the game\, someone who has a rich opinion about anything he puts his ears to — it’s traits like these that will set him apart from his peers in the future. The influences bleed out from beyond the confines of the music itself\, you hear tones of Madlib\, J Dilla\, and MF DOOM – arguably the 2012 Miami Heat of rapper-producers. And that’s a pretty solid benchmark to look toward. You don’t want to miss this.
URL:https://sense-live.com/event/lord-apex-2/
LOCATION:Button Factory\, Curved St\, Temple Bar\, Dublin\, Dublin\, D02 RD26\, Ireland
CATEGORIES:Live
ATTACH;FMTTYPE=image/jpeg:https://sense-live.com/wp-content/uploads/2023/05/SofiaCremaschi00032-scaled.jpg
END:VEVENT
BEGIN:VEVENT
DTSTART;TZID=UTC:20231029T230000
DTEND;TZID=UTC:20231101T230000
DTSTAMP:20260424T104955
CREATED:20221005T171728Z
LAST-MODIFIED:20230906T093020Z
UID:953-1698620400-1698879600@sense-live.com
SUMMARY:Steel City Dance Discs Irish Tour w/ Mall Grab + Effy + David Jackson
DESCRIPTION:We are pleased to announce that Mall Grab will bring his Steel City Dance Discs label to Ireland this October / November for an intimate label showcase tour alongside Effy & David Jackson.  \n\n\n\nMall Grab is no stranger to Irish shores and has headlined the likes of Forbidden Fruit\, Life Festival\, AVA & Emerge in Belfast in recent years\, this will be a rare chance to see him in your local venue. The tour will be a family affair with record label Steel City Dance Discs coming on tour in Ireland for the first time\, With Effy & David Jackson\, the positive energy is secured. \n\n\n\nSun\, Oct 29 | Centre Point – DublinMon\, Oct 30 | Cyprus Avenue – CorkTue\, Oct 31 | Dolans Warehouse – LimerickWed\, Nov 1 | Roisin Dubh – Galway
URL:https://sense-live.com/event/steel-city-dance-tour/
LOCATION:Multi
CATEGORIES:Club
ATTACH;FMTTYPE=image/jpeg:https://sense-live.com/wp-content/uploads/2022/10/SCDD_Dublin_IG-scaled.jpg
END:VEVENT
BEGIN:VEVENT
DTSTART;TZID=UTC:20231110T193000
DTEND;TZID=UTC:20231110T230000
DTSTAMP:20260424T104955
CREATED:20230531T093609Z
LAST-MODIFIED:20230531T113506Z
UID:942-1699644600-1699657200@sense-live.com
SUMMARY:Barry Can't Swim
DESCRIPTION:Barry Can’t Swim announces headline live show at the Button Factory on November 10th  \n\n\n\nBARRY CAN’T SWIM ANNOUNCES DEBUT ALBUM ‘WHEN WILL WE LAND?’ OUT 20TH OCTOBER ON NINJA TUNE / NEW SINGLE ‘WOMAN’ OUT NOW \n\n\n\nMulti-faceted Scottish artist Barry Can’t Swim will release his debut album ‘When Will We Land?’ on Ninja Tune\, out October 20th. His broadest and most diverse project yet\, the 11-track project moves from deep house to jazz\, from ambiance to the percussive charge of afrobeat. It’s all held together by his singular sense of purpose and that trademark vivacity; deftly finessed\, it’s an album that works as a form of musical autobiography. \n\n\n\nThe incoming debut album is led by the new single ‘Woman’\, a fantastic blend of digital production and organic musicianship. A warm bed of notes pirouettes around an emphatic vocal from Låpsley\, resulting in a song that moves between the cavernous house of Moodymann\, say\, and the neo-psychedelic tonnes of shoegaze. “I sent it out\,” he recalls\, “Lapsley came back immediately with this unreal vocal. I chopped it up\, re-arranged it… it’s one of those things that fell into place.” \n\n\n\n‘Woman’ follows the emphatic success of the recent single ‘Sunsleeper’\, which landed in the opening weeks of 2023. A dextrous and ambitious talent\, Barry Can’t Swim embraces the energy of club music while also blending this with organic elements. “For me\, I want it to have a musicality to it\,” he says of his debut album. “I wanted it to have the energy of electronic music but also with a more organic live element. I feel like I’m more of a musician than anything else. I’m a producer but I like writing music on instruments.” \n\n\n\nThe Edinburgh-born musician caught attention with a series of releases in 2020\, before signing to Ninja Tune imprint Technicolour for his sensational 2022 EP ‘More Content’. Billboard named him as one of their 10 Dance Artists To Watch\, while single ‘Blackpool Boulevard’ was Radio 1 playlisted – veteran broadcaster Pete Tong loved it\, while influential voices such as The Blessed Madonna and Annie Mac are huge fans. \n\n\n\nExpanding on this early promise\, Barry Can’t Swim doubles down for his debut album\, producing a work that feels complex but intricately unified. Utilising afrobeat drum loops for the title track\, he works with choral harmonies on ‘Always Get Through To You’\, and samples seminal Brazilian group Trio Ternura on joyous album highlight ‘Dance Of The Crab’. \n\n\n\n“You only get to make your debut album once\,” he points out. “So I want to showcase all the elements of the things I enjoy and love in music up to this point.” \n\n\n\nBarry Can’t Swim will also be heading out on a UK/EU live tour later this year\, with stops in Dublin\, Amsterdam\, Berlin\, Paris\, Manchester\, Liverpool. Bristol\, London\, Glasgow and Edinburgh.
URL:https://sense-live.com/event/barry-cant-swim-3/
LOCATION:Button Factory\, Curved St\, Temple Bar\, Dublin\, Dublin\, D02 RD26\, Ireland
CATEGORIES:Live
ATTACH;FMTTYPE=image/jpeg:https://sense-live.com/wp-content/uploads/2023/05/WOMAN-LEAD-SHOT-scaled.jpg
END:VEVENT
BEGIN:VEVENT
DTSTART;TZID=UTC:20240315T190000
DTEND;TZID=UTC:20240315T230000
DTSTAMP:20260424T104955
CREATED:20230531T093609Z
LAST-MODIFIED:20231023T144537Z
UID:970-1710529200-1710543600@sense-live.com
SUMMARY:Barry Can't Swim
DESCRIPTION:Barry Can’t Swim announces headline live show at Vicar Street on March 15th  \n\n\n\nJust a few days after the release of Barry Can’t Swim’s long-awaited debut album ‘When Will We Land?’ – released Friday 20th October on Ninja Tune – Barry announces an impressive 2024 headline world tour. Kicking off at the start of February with stops across North America\, before a string of UK and EU live dates including Vicar Street on Friday\, March 15th.  \n\n\n\n‘When Will We Land?’ marks the Edinburgh-born artist’s broadest and most diverse project yet\, the 11-track project moves from deep house to jazz\, from ambiance to the percussive charge of afrobeat. It’s all held together by his singular sense of purpose and that trademark vivacity; deftly finessed\, it’s an album that works as a form of musical autobiography.  \n\n\n\nThe new album and today’s tour announcement arrive hot on the heels of a momentous few months for Barry with stand-out DJ sets at this year’s Glastonbury\, an already lauded Boiler Room performance at FLY Open Air festival\, a Mahogany session and high profile shows across the world (Amnesia in Ibiza alongside Kerri Chandler\, Honey Dijon and Nina Kraviz). Barry also recently performed a stand-out set at Warehouse Project ‘Boiler Room Presents’ to a packed out room alongside Overmono\, DJ EZ\, Casisdead and Moodymann\, played Portola festival to a huge crowd\, played multiple sold-out headline shows and supported Ben Böhmer in New York\, LA and Chicago.  \n\n\n\nThe Edinburgh-born musician caught attention with a series of releases in 2020\, before signing to Ninja Tune imprint Technicolour for his sensational 2022 EP ‘More Content’ (which has amassed over 20 million streams to date) and ‘Amor Fati’ (35 million to date). To add to this Billboard named him as one of their 10 Dance Artists To Watch\, while influential voices such as The Blessed Madonna and Annie Mac are huge fans. More recently\, his newest single “Always Get Through To You” was Clara Amfo’s Hottest Record.  \n\n\n\n‘When Will We Land?’ is out now on Ninja Tune. \n\n\n\nTickets go on general sale Friday\, October 27th at 10 am via Ticketmaster.ie \n\n\n\nPre-sale tickets go on sale Thursday\, October 26th at 10 am sign-up below.
URL:https://sense-live.com/event/barry-cant-swim-3-2/
LOCATION:Vicar Street\, 58-59 Thomas St\, Dublin\, Dublin\, 8\, Ireland
CATEGORIES:Live
ATTACH;FMTTYPE=image/png:https://sense-live.com/wp-content/uploads/2023/10/BarryCantSwim-2024Tour-Ireland2-e1698071386803.png
END:VEVENT
BEGIN:VEVENT
DTSTART;TZID=UTC:20241008T220000
DTEND;TZID=UTC:20241011T030000
DTSTAMP:20260424T104955
CREATED:20230531T093609Z
LAST-MODIFIED:20240920T213050Z
UID:983-1728424800-1728615600@sense-live.com
SUMMARY:Sam Alfred Irish Tour
DESCRIPTION:We are incredibly excited to announce Aussie sensation @samalfredd joins us for a 3-stop Irish tour this October\, with debut shows in Galway & Limerick as well as a return to the capital to close out the tour 💫 \n\n\n\nLimerick: Tue\, Oct 08 @dolans_limerick \n\n\n\nGalway: Wed\, Oct 09 @roisindubhpub \n\n\n\nDublin: Fri\, Oct 11 @centrepointclub
URL:https://sense-live.com/event/samalfred/
LOCATION:The Grand Social\, 35 Liffey St. Lower\,\, Dublin\, D1\, Ireland
CATEGORIES:Club
ATTACH;FMTTYPE=image/webp:https://sense-live.com/wp-content/uploads/2024/09/Sam-Alfred.webp
END:VEVENT
BEGIN:VEVENT
DTSTART;TZID=UTC:20241127T193000
DTEND;TZID=UTC:20241127T230000
DTSTAMP:20260424T104955
CREATED:20230531T093609Z
LAST-MODIFIED:20240920T211949Z
UID:977-1732735800-1732748400@sense-live.com
SUMMARY:salute presents TRUE MAGIC
DESCRIPTION:salute makes their much anticipated Irish return this November 27th at The Grand Social with their ‘TRUE MAGIC’ World Tour. \n\n\n\nsalute’s TRUE MAGIC album is a concept album based on the concept of racing Japanese cars. The album features contributions from Rina Sawayama\, Karma Kid\, Disclosure\, Sam Gellaitry\, なかむらみなみ\, Empress Of\, Léa Sen\, Piri\, and Leilah and charted at number 5 on the UK Dance Albums Chart. Described by salute as “fast and soulful house music\,” with influences including U.K. garage\, techno\, classic house\, and French house. \n\n\n\nTickets go on general sale at 10AM Friday 27th September HERESign up for Pre-sale HERE
URL:https://sense-live.com/event/salute/
LOCATION:The Grand Social\, 35 Liffey St. Lower\,\, Dublin\, D1\, Ireland
CATEGORIES:Live
ATTACH;FMTTYPE=image/png:https://sense-live.com/wp-content/uploads/2024/09/saluteTMWORLD_Dublin.png
END:VEVENT
END:VCALENDAR