BEGIN:VCALENDAR
VERSION:2.0
PRODID:-//Sense - ECPv5.9.0//NONSGML v1.0//EN
CALSCALE:GREGORIAN
METHOD:PUBLISH
X-WR-CALNAME:Sense
X-ORIGINAL-URL:https://sense-live.com
X-WR-CALDESC:Events for Sense
BEGIN:VTIMEZONE
TZID:UTC
BEGIN:STANDARD
TZOFFSETFROM:+0000
TZOFFSETTO:+0000
TZNAME:UTC
DTSTART:20240101T000000
END:STANDARD
END:VTIMEZONE
BEGIN:VEVENT
DTSTART;TZID=UTC:20240315T190000
DTEND;TZID=UTC:20240315T230000
DTSTAMP:20260424T035836
CREATED:20230531T093609Z
LAST-MODIFIED:20231023T144537Z
UID:970-1710529200-1710543600@sense-live.com
SUMMARY:Barry Can't Swim
DESCRIPTION:Barry Can’t Swim announces headline live show at Vicar Street on March 15th  \n\n\n\nJust a few days after the release of Barry Can’t Swim’s long-awaited debut album ‘When Will We Land?’ – released Friday 20th October on Ninja Tune – Barry announces an impressive 2024 headline world tour. Kicking off at the start of February with stops across North America\, before a string of UK and EU live dates including Vicar Street on Friday\, March 15th.  \n\n\n\n‘When Will We Land?’ marks the Edinburgh-born artist’s broadest and most diverse project yet\, the 11-track project moves from deep house to jazz\, from ambiance to the percussive charge of afrobeat. It’s all held together by his singular sense of purpose and that trademark vivacity; deftly finessed\, it’s an album that works as a form of musical autobiography.  \n\n\n\nThe new album and today’s tour announcement arrive hot on the heels of a momentous few months for Barry with stand-out DJ sets at this year’s Glastonbury\, an already lauded Boiler Room performance at FLY Open Air festival\, a Mahogany session and high profile shows across the world (Amnesia in Ibiza alongside Kerri Chandler\, Honey Dijon and Nina Kraviz). Barry also recently performed a stand-out set at Warehouse Project ‘Boiler Room Presents’ to a packed out room alongside Overmono\, DJ EZ\, Casisdead and Moodymann\, played Portola festival to a huge crowd\, played multiple sold-out headline shows and supported Ben Böhmer in New York\, LA and Chicago.  \n\n\n\nThe Edinburgh-born musician caught attention with a series of releases in 2020\, before signing to Ninja Tune imprint Technicolour for his sensational 2022 EP ‘More Content’ (which has amassed over 20 million streams to date) and ‘Amor Fati’ (35 million to date). To add to this Billboard named him as one of their 10 Dance Artists To Watch\, while influential voices such as The Blessed Madonna and Annie Mac are huge fans. More recently\, his newest single “Always Get Through To You” was Clara Amfo’s Hottest Record.  \n\n\n\n‘When Will We Land?’ is out now on Ninja Tune. \n\n\n\nTickets go on general sale Friday\, October 27th at 10 am via Ticketmaster.ie \n\n\n\nPre-sale tickets go on sale Thursday\, October 26th at 10 am sign-up below.
URL:https://sense-live.com/event/barry-cant-swim-3-2/
LOCATION:Vicar Street\, 58-59 Thomas St\, Dublin\, Dublin\, 8\, Ireland
CATEGORIES:Live
ATTACH;FMTTYPE=image/png:https://sense-live.com/wp-content/uploads/2023/10/BarryCantSwim-2024Tour-Ireland2-e1698071386803.png
END:VEVENT
END:VCALENDAR